BEGIN:VCALENDAR
VERSION:2.0
PRODID:-//wp-events-plugin.com//7.2.3.1//EN
BEGIN:VEVENT
UID:1@uscanvn.org
DTSTART;VALUE=DATE:20220831
DTEND;VALUE=DATE:20220901
DTSTAMP:20220827T123343Z
URL:https://uscanvn.org/events/auto-draft/
SUMMARY:Auto Draft
DESCRIPTION:[et_pb_section fb_built="1" admin_label="Footer" _builder_versi
 on="4.16" _module_preset="default" background_color="#313453" background_i
 mage="http://ilo-and-art.com/vishanima/wp-content/uploads/2022/07/illustra
 tion-04.png" background_size="initial" custom_margin="80px||||false|false"
  locked="off" global_colors_info="{}"][et_pb_row custom_padding_last_edite
 d="on|desktop" _builder_version="4.16" _module_preset="default" background
 _color="#fcf3e4" background_image="http://ilo-and-art.com/vishanima/wp-con
 tent/uploads/2022/07/astrologist-illustrations-25.png" transform_scale_las
 t_edited="off|desktop" transform_translate_tablet="0px|0px" transform_tran
 slate_last_edited="off|desktop" transform_rotate_last_edited="off|desktop"
  transform_skew_last_edited="off|desktop" transform_origin_last_edited="of
 f|desktop" transform_styles_last_edited="off|desktop" custom_margin="-110p
 x||40px||false|false" custom_padding="120px|40px|120px|40px|true|true" cus
 tom_padding_tablet="40px|30px|40px|30px|true|true" custom_padding_phone="7
 0px|20px|70px|20px|true|true" background_last_edited="on|phone" background
 _size_tablet="cover" background_size_phone="cover" global_colors_info="{}"
 ][et_pb_column type="4_4" _builder_version="4.16" _module_preset="default"
  global_colors_info="{}"][et_pb_text _builder_version="4.17.6" _module_pre
 set="default" header_2_font="Philosopher|700|||||||" header_2_text_align="
 center" header_2_text_color="#313453" header_2_font_size="54px" header_3_f
 ont="Kaushan Script||on||||||" header_3_text_align="center" header_3_text_
 color="#fe7f5c" header_3_line_height="1.3em" width="70%" width_tablet="80%
 " width_phone="" width_last_edited="on|phone" module_alignment="center" he
 ader_2_font_size_tablet="28px" header_2_font_size_phone="20px" header_2_fo
 nt_size_last_edited="on|phone" locked="off" global_colors_info="{}"]E Halo
  Vraj\nVraj\, Pennsylvania[/et_pb_text][et_pb_text _builder_version="4.16"
  _module_preset="default" text_font="Montserrat||||||||" text_font_size="1
 6px" text_line_height="1.8em" text_orientation="center" width="60%" width_
 tablet="75%" width_phone="100%" width_last_edited="on|phone" module_alignm
 ent="center" text_font_size_tablet="15px" text_font_size_phone="14px" text
 _font_size_last_edited="on|phone" locked="off" global_colors_info="{}"]Lor
 em ipsum dolor sit amet\, consectetur adipiscing elit\, sed do eiusmod tem
 por incididunt ut labore et dolore magna aliqua. Ut enim ad minim veniam\,
  quis nostrud exercitation.[/et_pb_text][et_pb_button button_text="Join Ev
 ent" button_alignment="center" button_alignment_tablet="center" button_ali
 gnment_last_edited="off|desktop" _builder_version="4.17.6" _module_preset=
 "default" custom_button="on" button_text_size="12px" button_text_color="#f
 fffff" button_bg_color="#fe7f5c" button_border_width="0px" button_border_r
 adius="0px" button_letter_spacing="1px" button_font="Montserrat|600||on|||
 ||" custom_padding="15px|30px|15px|30px|true|true" locked="off" global_col
 ors_info="{}"][/et_pb_button][/et_pb_column][/et_pb_row][et_pb_row column_
 structure="1_3\,1_3\,1_3" disabled_on="on|on|on" _builder_version="4.16" _
 module_preset="default" disabled="on" global_colors_info="{}"][et_pb_colum
 n type="1_3" _builder_version="4.16" _module_preset="default" border_width
 _right="1px" border_color_right="#ded6ce" border_width_right_tablet="0px" 
 border_width_right_phone="" border_width_right_last_edited="on|phone" glob
 al_colors_info="{}"][et_pb_blurb title="email" _builder_version="4.16" _mo
 dule_preset="default" header_font="Montserrat|500||on|||||" header_text_co
 lor="#fe7f5c" header_font_size="10px" header_letter_spacing="4px" body_fon
 t="Philosopher||||||||" body_text_color="#fcf3e4" body_font_size="20px" te
 xt_orientation="center" global_colors_info="{}"]hello@diviastrologist.com[
 /et_pb_blurb][/et_pb_column][et_pb_column type="1_3" _builder_version="4.1
 6" _module_preset="default" border_width_right="1px" border_color_right="#
 ded6ce" border_width_right_tablet="0px" border_width_right_phone="" border
 _width_right_last_edited="on|phone" global_colors_info="{}"][et_pb_blurb t
 itle="phone" _builder_version="4.16" _module_preset="default" header_font=
 "Montserrat|500||on|||||" header_text_color="#fe7f5c" header_font_size="10
 px" header_letter_spacing="4px" body_font="Philosopher||||||||" body_text_
 color="#fcf3e4" body_font_size="20px" text_orientation="center" locked="of
 f" global_colors_info="{}"](255) 352-6258[/et_pb_blurb][/et_pb_column][et_
 pb_column type="1_3" _builder_version="4.16" _module_preset="default" glob
 al_colors_info="{}"][et_pb_blurb title="social media" _builder_version="4.
 16" _module_preset="default" header_font="Montserrat|500||on|||||" header_
 text_color="#fe7f5c" header_font_size="10px" header_letter_spacing="4px" b
 ody_font="Philosopher||||||||" body_text_color="#fcf3e4" body_font_size="2
 0px" text_orientation="center" locked="off" global_colors_info="{}"][/et_p
 b_blurb][et_pb_social_media_follow icon_color="#d7e1f3" _builder_version="
 4.16" _module_preset="default" text_orientation="center" custom_margin="-3
 0px||||false|false" global_colors_info="{}"][et_pb_social_media_follow_net
 work social_network="instagram" _builder_version="4.16" _module_preset="de
 fault" background_enable_color="off" global_colors_info="{}" follow_button
 ="off" url_new_window="on"]instagram[/et_pb_social_media_follow_network][e
 t_pb_social_media_follow_network social_network="twitter" _builder_version
 ="4.16" _module_preset="default" background_enable_color="off" global_colo
 rs_info="{}" follow_button="off" url_new_window="on"]twitter[/et_pb_social
 _media_follow_network][et_pb_social_media_follow_network social_network="f
 acebook" _builder_version="4.16" _module_preset="default" background_enabl
 e_color="off" global_colors_info="{}" follow_button="off" url_new_window="
 on"]facebook[/et_pb_social_media_follow_network][et_pb_social_media_follow
 _network social_network="youtube" _builder_version="4.16" _module_preset="
 default" background_enable_color="off" global_colors_info="{}" follow_butt
 on="off" url_new_window="on"]youtube[/et_pb_social_media_follow_network][/
 et_pb_social_media_follow][/et_pb_column][/et_pb_row][/et_pb_section]
END:VEVENT
BEGIN:VEVENT
UID:3@uscanvn.org
DTSTART;TZID=America/New_York;VALUE=DATE:20260821
DTEND;TZID=America/New_York;VALUE=DATE:20260824
DTSTAMP:20260224T023428Z
URL:https://uscanvn.org/events/vraj-sneh-milan-aug-21-23-2026/
SUMMARY:Vraj Sneh Milan - Aug 21-23\, 2026
DESCRIPTION:Sneh Milan Aug 21-23\, 2026 at Vraj\, Pennsylvania.
LOCATION:Vraj\, USA\, 51 Manor Rd\, Schuylkill Haven\, PA\, 17972\, United 
 States
X-APPLE-STRUCTURED-LOCATION;VALUE=URI;X-ADDRESS=51 Manor Rd\, Schuylkill Ha
 ven\, PA\, 17972\, United States;X-APPLE-RADIUS=100;X-TITLE=Vraj\, USA:geo
 :0,0
END:VEVENT
BEGIN:VTIMEZONE
TZID:America/New_York
X-LIC-LOCATION:America/New_York
BEGIN:DAYLIGHT
DTSTART:20260308T030000
TZOFFSETFROM:-0500
TZOFFSETTO:-0400
TZNAME:EDT
END:DAYLIGHT
END:VTIMEZONE
END:VCALENDAR